BEGIN:VCALENDAR
VERSION:2.0
PRODID:-//Tukios.com/
BEGIN:VEVENT
UID:e4a52bfd-fde4-42b4-8eaa-dcf557eb4897@www.nash-jackan.com
DTSTAMP:20260421T013012Z
DTSTART:20260425T140000Z
DTEND:20260425T170000Z
SUMMARY:Visitation
DESCRIPTION:
URL:https://www.nash-jackan.com/obituaries/david-jorgensen
LOCATION: W14616 Wisconsin 73  Sheldon WI 54766
GEO:45.3537441;-90.7943659
END:VEVENT
END:VCALENDAR