BEGIN:VCALENDAR
VERSION:2.0
PRODID:-//Tukios.com/
BEGIN:VEVENT
UID:3552fe5f-b1cb-4eff-950d-3bbe64821282@www.nash-jackan.com
DTSTAMP:20260421T013120Z
DTSTART:20260425T170000Z
DTEND:20260425T180000Z
SUMMARY:Memorial Service
DESCRIPTION:
URL:https://www.nash-jackan.com/obituaries/david-jorgensen
LOCATION: W14616 Wisconsin 73  Sheldon WI 54766
GEO:45.3537441;-90.7943659
END:VEVENT
END:VCALENDAR