BEGIN:VCALENDAR
VERSION:2.0
PRODID:-//Tukios.com/
BEGIN:VEVENT
UID:031e6792-6569-474e-a058-63ef92ea892c@www.nash-jackan.com
DTSTAMP:20260420T230956Z
DTSTART:20260501T210000Z
DTEND:20260502T000000Z
SUMMARY:Visitation
DESCRIPTION:
URL:https://www.nash-jackan.com/obituaries/jacob-jake-pfalzgraf
LOCATION: 120 Fritz Ave E  Ladysmith WI 54848
GEO:45.4621352;-91.0997664
END:VEVENT
END:VCALENDAR