BEGIN:VCALENDAR
VERSION:2.0
PRODID:-//Tukios.com/
BEGIN:VEVENT
UID:e5e0b302-c80f-435c-b627-0a8bd0af10c1@www.nash-jackan.com
DTSTAMP:20260420T230824Z
DTSTART:20260502T150000Z
DTEND:20260502T160000Z
SUMMARY:Mass
DESCRIPTION:
URL:https://www.nash-jackan.com/obituaries/jacob-jake-pfalzgraf
LOCATION: 120 Corbett Avenue East  Ladysmith WI 54848
GEO:45.4612955;-91.099943
END:VEVENT
END:VCALENDAR