BEGIN:VCALENDAR
VERSION:2.0
PRODID:-//Tukios.com/
BEGIN:VEVENT
UID:22b8049a-d399-449f-b540-813db646e912@www.nash-jackan.com
DTSTAMP:20260420T231202Z
DTSTART:20260502T140000Z
DTEND:20260502T150000Z
SUMMARY:Visitation
DESCRIPTION:
URL:https://www.nash-jackan.com/obituaries/jacob-jake-pfalzgraf
LOCATION: 120 Corbett Avenue East  Ladysmith WI 54848
GEO:45.4612955;-91.099943
END:VEVENT
END:VCALENDAR