BEGIN:VCALENDAR
VERSION:2.0
PRODID:-//Tukios.com/
BEGIN:VEVENT
UID:fdf31100-4835-430e-aaab-f38dc1f80d8b@www.nash-jackan.com
DTSTAMP:20260420T231344Z
DTSTART:20260502T000000Z
DTEND:20260502T003000Z
SUMMARY:Scripture Service
DESCRIPTION:
URL:https://www.nash-jackan.com/obituaries/jacob-jake-pfalzgraf
LOCATION: 120 Fritz Ave E  Ladysmith WI 54848
GEO:45.4621352;-91.0997664
END:VEVENT
END:VCALENDAR