BEGIN:VCALENDAR
VERSION:2.0
PRODID:-//Tukios.com/
BEGIN:VEVENT
UID:be47fb2a-6dcf-45dd-bfc9-20d3394d893f@www.nash-jackan.com
DTSTAMP:20260424T163333Z
DTSTART:20260430T140000Z
DTEND:20260430T160000Z
SUMMARY:Visitation
DESCRIPTION:
URL:https://www.nash-jackan.com/obituaries/jerry-stearns
LOCATION:Our Lady of Sorrows Catholic Church 611 1st St S  Ladysmith WI 
	54848
GEO:45.4611107;-91.0998977
END:VEVENT
END:VCALENDAR