BEGIN:VCALENDAR
VERSION:2.0
PRODID:-//Tukios.com/
BEGIN:VEVENT
UID:0bb3fd5d-0258-423f-9c6f-33b592736c7a@www.nash-jackan.com
DTSTAMP:20260424T163543Z
DTSTART:20260430T160000Z
DTEND:20260430T170000Z
SUMMARY:Funeral Service
DESCRIPTION:
URL:https://www.nash-jackan.com/obituaries/jerry-stearns
LOCATION: 120 Corbett Avenue East  Ladysmith WI 54848
GEO:45.4612955;-91.099943
END:VEVENT
END:VCALENDAR