BEGIN:VCALENDAR
VERSION:2.0
PRODID:-//Tukios.com/
BEGIN:VEVENT
UID:df8146f8-4e71-4f59-8304-4c3c6f9019ea@www.nash-jackan.com
DTSTAMP:20260426T022600Z
DTSTART:20260516T180000Z
DTEND:20260516T230000Z
SUMMARY:Celebration of Life
DESCRIPTION:
URL:https://www.nash-jackan.com/obituaries/nancy-bessel
LOCATION:Lake Holcombe Town Hall 26179 275th Street  Holcombe WI 54745
GEO:45.22259;-91.1176699
END:VEVENT
END:VCALENDAR