BEGIN:VCALENDAR
VERSION:2.0
PRODID:-//Tukios.com/
BEGIN:VEVENT
UID:d779425f-aaea-431d-9513-bea1e4e0f74c@www.nash-jackan.com
DTSTAMP:20260419T181343Z
DTSTART:20260422T180000Z
DTEND:20260422T190000Z
SUMMARY:Visitation
DESCRIPTION:
URL:https://www.nash-jackan.com/obituaries/twink-winchell
LOCATION:Klossner-Dietzler VFW Post 5729 240 S 8th Street  Medford WI 
	54451
GEO:45.1380073;-90.3329152
END:VEVENT
END:VCALENDAR