BEGIN:VCALENDAR
VERSION:2.0
PRODID:-//Tukios.com/
BEGIN:VEVENT
UID:60375187-22c7-4baa-b98d-3455c8a690ee@www.nash-jackan.com
DTSTAMP:20260419T181720Z
DTSTART:20260422T190000Z
DTEND:20260422T200000Z
SUMMARY:Military Honors
DESCRIPTION:
URL:https://www.nash-jackan.com/obituaries/twink-winchell
LOCATION:Klossner-Dietzler VFW Post 5729 240 S 8th Street  Medford WI 
	54451
GEO:45.1380073;-90.3329152
END:VEVENT
END:VCALENDAR